
BEGIN:VCALENDAR
VERSION:2.0
PRODID:-//PURPLE LAP - ECPv5.5.0.1//NONSGML v1.0//EN
CALSCALE:GREGORIAN
METHOD:PUBLISH
X-WR-CALNAME:PURPLE LAP
X-ORIGINAL-URL:https://purplelap.com
X-WR-CALDESC:Events for PURPLE LAP
BEGIN:VTIMEZONE
TZID:Europe/London
BEGIN:DAYLIGHT
TZOFFSETFROM:+0000
TZOFFSETTO:+0100
TZNAME:BST
DTSTART:20210328T010000
END:DAYLIGHT
BEGIN:STANDARD
TZOFFSETFROM:+0100
TZOFFSETTO:+0000
TZNAME:GMT
DTSTART:20211031T010000
END:STANDARD
END:VTIMEZONE
BEGIN:VEVENT
DTSTART;VALUE=DATE:20211107
DTEND;VALUE=DATE:20211108
DTSTAMP:20260421T162916
CREATED:20210211T103435Z
LAST-MODIFIED:20210211T103501Z
UID:413-1636243200-1636329599@purplelap.com
SUMMARY:Tiedeman Trophy Rounds 5&6 Silverstone National
DESCRIPTION:The final two rounds of the 2021 Reprise IT Tiedeman Trophy will be held at Silverstone\, using the National circuit as part of the Walter Hayes Trophy Meeting. \nThe meeting will use the double header format which will see qualifying and two races over the day. Qualifying will set the grid for Race 1 and the grid for Race 2 will be decided by the fastest laps set in Race 1. All cars will share one grid. \nDocuments will be added and updated on the website as they become available: www.monoposto.co.uk/calendar \nEvery entry includes a £2.50 carbon offset levy\, which will be matched by the club.
URL:https://purplelap.com/event/tiedeman-trophy-rounds-56-silverstone-national/
LOCATION:Silverstone
END:VEVENT
END:VCALENDAR