
BEGIN:VCALENDAR
VERSION:2.0
PRODID:-//PURPLE LAP - ECPv5.5.0.1//NONSGML v1.0//EN
CALSCALE:GREGORIAN
METHOD:PUBLISH
X-WR-CALNAME:PURPLE LAP
X-ORIGINAL-URL:https://purplelap.com
X-WR-CALDESC:Events for PURPLE LAP
BEGIN:VTIMEZONE
TZID:Europe/London
BEGIN:DAYLIGHT
TZOFFSETFROM:+0000
TZOFFSETTO:+0100
TZNAME:BST
DTSTART:20240331T010000
END:DAYLIGHT
BEGIN:STANDARD
TZOFFSETFROM:+0100
TZOFFSETTO:+0000
TZNAME:GMT
DTSTART:20241027T010000
END:STANDARD
END:VTIMEZONE
BEGIN:VEVENT
DTSTART;VALUE=DATE:20240926
DTEND;VALUE=DATE:20240929
DTSTAMP:20260425T181840
CREATED:20240709T102306Z
LAST-MODIFIED:20240709T110919Z
UID:891-1727308800-1727567999@purplelap.com
SUMMARY:2024 Spa
DESCRIPTION:Thursday 26th September – qualifying\nFriday 27th September – Race 1\nSaturday 28th September – Race 2\n\n\nThe access to the circuit for any motorhome will be allowed on reservation only and a 50 euros fee per motorhome (all taxes included) no matter where you are located. Booking form to follow \n\n\n\n\n\n\n\n\n\n\n\n\n\n \n\n\n\n\n\n\n\n\n\n\n\n\n\n\n\n\n\n\n\n\n\n\n\n\n\n \n\n\n\n\n\n\n\n\n\n\n\n\n\n 
URL:https://purplelap.com/event/spa-six-hours-2-fj-races/
LOCATION:Spa
END:VEVENT
END:VCALENDAR