
BEGIN:VCALENDAR
VERSION:2.0
PRODID:-//PURPLE LAP - ECPv5.5.0.1//NONSGML v1.0//EN
CALSCALE:GREGORIAN
METHOD:PUBLISH
X-WR-CALNAME:PURPLE LAP
X-ORIGINAL-URL:https://purplelap.com
X-WR-CALDESC:Events for PURPLE LAP
BEGIN:VTIMEZONE
TZID:Europe/London
BEGIN:DAYLIGHT
TZOFFSETFROM:+0000
TZOFFSETTO:+0100
TZNAME:BST
DTSTART:20210328T010000
END:DAYLIGHT
BEGIN:STANDARD
TZOFFSETFROM:+0100
TZOFFSETTO:+0000
TZNAME:GMT
DTSTART:20211031T010000
END:STANDARD
END:VTIMEZONE
BEGIN:VEVENT
DTSTART;VALUE=DATE:20210813
DTEND;VALUE=DATE:20210816
DTSTAMP:20260421T214359
CREATED:20210621T071858Z
LAST-MODIFIED:20210804T083655Z
UID:484-1628812800-1629071999@purplelap.com
SUMMARY:POSTPONED TO 2022 - Oldtimer GP - FJ
DESCRIPTION:Thursday 12th: Test Day\nFriday 13th: Qualifying\nSaturday 14th: Race 1\nSunday 15th: Race 2
URL:https://purplelap.com/event/oldtimer-gp-fj/
LOCATION:Nurburgring
END:VEVENT
END:VCALENDAR