
BEGIN:VCALENDAR
VERSION:2.0
PRODID:-//PURPLE LAP - ECPv5.5.0.1//NONSGML v1.0//EN
CALSCALE:GREGORIAN
METHOD:PUBLISH
X-WR-CALNAME:PURPLE LAP
X-ORIGINAL-URL:https://purplelap.com
X-WR-CALDESC:Events for PURPLE LAP
BEGIN:VTIMEZONE
TZID:Europe/London
BEGIN:DAYLIGHT
TZOFFSETFROM:+0000
TZOFFSETTO:+0100
TZNAME:BST
DTSTART:20240331T010000
END:DAYLIGHT
BEGIN:STANDARD
TZOFFSETFROM:+0100
TZOFFSETTO:+0000
TZNAME:GMT
DTSTART:20241027T010000
END:STANDARD
END:VTIMEZONE
BEGIN:VEVENT
DTSTART;VALUE=DATE:20240519
DTEND;VALUE=DATE:20240520
DTSTAMP:20260421T164736
CREATED:20240213T141343Z
LAST-MODIFIED:20240513T131722Z
UID:826-1716076800-1716163199@purplelap.com
SUMMARY:Mallory Park
DESCRIPTION:The 500 Owners Association returns to Mallory Park\, an all-time favourite and one where everyone is trying to beat that 1-minute lap time. \n  \nThe race day on Sunday 19th May\, consists of a 15-minute qualifying session and two 15-minute races\, so a very busy and compact day. \nThe grid for both races is set by the qualifying times. \nSigning on details are to follow. \nPlease note that the track licence limits us to 24 starters\, and the noise limit is 105dB. \n  \nThe entry fee for this double header is £395 and please note that payment is NOT to the 500 OA but to the event organisers as follows: \n  \nClassic and Modern Motorsport Club (2021) Ltd \nAccount number: 79689000 \nSort Code: 55-70-31 \n  \nPlease include your surname and the reference 500OA in the payment reference section.  \n  \nPlease email a photo of both sides of your competition licence to Xavier Kingsland as soon as you receive your 2024 licence. xavierfkingsland@gmail.com \n \n \nThe 500 Owners Association Code of Conduct representative for this event is Xavier Kingsland. The deputy will be Simon Dedman.
URL:https://purplelap.com/event/mallory-park/
LOCATION:Mallory Park\, Mallory Park Circuit\, Kirkby Mallory\, Leicester \, Leicestershire\, LE9 7QE\, England
END:VEVENT
END:VCALENDAR