
BEGIN:VCALENDAR
VERSION:2.0
PRODID:-//PURPLE LAP - ECPv5.5.0.1//NONSGML v1.0//EN
CALSCALE:GREGORIAN
METHOD:PUBLISH
X-WR-CALNAME:PURPLE LAP
X-ORIGINAL-URL:https://purplelap.com
X-WR-CALDESC:Events for PURPLE LAP
BEGIN:VTIMEZONE
TZID:Europe/London
BEGIN:DAYLIGHT
TZOFFSETFROM:+0000
TZOFFSETTO:+0100
TZNAME:BST
DTSTART:20260329T010000
END:DAYLIGHT
BEGIN:STANDARD
TZOFFSETFROM:+0100
TZOFFSETTO:+0000
TZNAME:GMT
DTSTART:20261025T010000
END:STANDARD
END:VTIMEZONE
BEGIN:VEVENT
DTSTART;VALUE=DATE:20260516
DTEND;VALUE=DATE:20260518
DTSTAMP:20260425T225027
CREATED:20260414T160539Z
LAST-MODIFIED:20260414T160539Z
UID:1107-1778889600-1779062399@purplelap.com
SUMMARY:HSTA May 2 Day Trial 2026
DESCRIPTION:Historic sporting trial for Historic and Post Historic class trials cars
URL:https://purplelap.com/event/hsta-may-2-day-trial-2026/
LOCATION:Crewkerne\, Blackmoor Farm\, Woolminstone\, Somerset\, TA18 8QP\, UK
END:VEVENT
END:VCALENDAR