
BEGIN:VCALENDAR
VERSION:2.0
PRODID:-//PURPLE LAP - ECPv5.5.0.1//NONSGML v1.0//EN
CALSCALE:GREGORIAN
METHOD:PUBLISH
X-WR-CALNAME:PURPLE LAP
X-ORIGINAL-URL:https://purplelap.com
X-WR-CALDESC:Events for PURPLE LAP
BEGIN:VTIMEZONE
TZID:Europe/London
BEGIN:DAYLIGHT
TZOFFSETFROM:+0000
TZOFFSETTO:+0100
TZNAME:BST
DTSTART:20200329T010000
END:DAYLIGHT
BEGIN:STANDARD
TZOFFSETFROM:+0100
TZOFFSETTO:+0000
TZNAME:GMT
DTSTART:20201025T010000
END:STANDARD
END:VTIMEZONE
BEGIN:VEVENT
DTSTART;VALUE=DATE:20200614
DTEND;VALUE=DATE:20200615
DTSTAMP:20260421T033044
CREATED:20200227T130607Z
LAST-MODIFIED:20200817T093604Z
UID:269-1592092800-1592179199@purplelap.com
SUMMARY:Classic and Modern Motorsport
DESCRIPTION:This event has been cancelled due to Covid 19 restrictions 
URL:https://purplelap.com/event/classic-and-modern-motorsport/
LOCATION:Mallory Park\, Mallory Park Circuit\, Kirkby Mallory\, Leicester \, Leicestershire\, LE9 7QE\, England
END:VEVENT
END:VCALENDAR