
BEGIN:VCALENDAR
VERSION:2.0
PRODID:-//PURPLE LAP - ECPv5.5.0.1//NONSGML v1.0//EN
CALSCALE:GREGORIAN
METHOD:PUBLISH
X-WR-CALNAME:PURPLE LAP
X-ORIGINAL-URL:https://purplelap.com
X-WR-CALDESC:Events for PURPLE LAP
BEGIN:VTIMEZONE
TZID:Europe/London
BEGIN:DAYLIGHT
TZOFFSETFROM:+0000
TZOFFSETTO:+0100
TZNAME:BST
DTSTART:20210328T010000
END:DAYLIGHT
BEGIN:STANDARD
TZOFFSETFROM:+0100
TZOFFSETTO:+0000
TZNAME:GMT
DTSTART:20211031T010000
END:STANDARD
END:VTIMEZONE
BEGIN:VEVENT
DTSTART;VALUE=DATE:20211022
DTEND;VALUE=DATE:20211025
DTSTAMP:20260421T145648
CREATED:20210812T133119Z
LAST-MODIFIED:20210812T133425Z
UID:522-1634860800-1635119999@purplelap.com
SUMMARY:2021 Jerez Historic Festival
DESCRIPTION:Friday: Additional Test Day \nSaturday: Qualifying \nSunday: 2 races
URL:https://purplelap.com/event/2021-jerez-historic-festival/
LOCATION:Jerez
END:VEVENT
END:VCALENDAR